BEGIN:VCALENDAR
VERSION:2.0
PRODID:-//wp-events-plugin.com//7.2.3.1//EN
TZID:Europe/Jersey
X-WR-TIMEZONE:Europe/Jersey
BEGIN:VEVENT
UID:1-13149@publow-with-pensford-pc.gov.uk
DTSTART;TZID=Europe/London:20260301T100000
DTEND;TZID=Europe/London:20260301T100000
DTSTAMP:20250419T221702Z
URL:https://www.publow-with-pensford-pc.gov.uk/events/benefict-eucharist-2
 026-03-01/
SUMMARY:Holy Communion at Publow Church
DESCRIPTION:Holy Communion at Publow Church
ATTACH;FMTTYPE=image/jpeg:https://www.publow-with-pensford-pc.gov.uk/wp-co
 ntent/uploads/2018/08/17.-Publow-Church-760x481-1.jpg
LOCATION:All Saints Church\, Publow Lane\, Publow Lane\, Publow\, BS39 4HP\
 , United Kingdom
GEO:51.3768;-2.539975
X-APPLE-STRUCTURED-LOCATION;VALUE=URI;X-ADDRESS=Publow Lane\, Publow Lane\,
  Publow\, BS39 4HP\, United Kingdom;X-APPLE-RADIUS=100;X-TITLE=All Saints 
 Church:geo:51.3768,-2.539975
END:VEVENT
BEGIN:VTIMEZONE
TZID:Europe/London
X-LIC-LOCATION:Europe/London
BEGIN:STANDARD
DTSTART:20251026T010000
TZOFFSETFROM:+0100
TZOFFSETTO:+0000
TZNAME:GMT
END:STANDARD
END:VTIMEZONE
END:VCALENDAR