BEGIN:VCALENDAR
VERSION:2.0
PRODID:-//wp-events-plugin.com//7.2.3.1//EN
TZID:Europe/Jersey
X-WR-TIMEZONE:Europe/Jersey
BEGIN:VEVENT
UID:1-13376@publow-with-pensford-pc.gov.uk
DTSTART;TZID=Europe/Jersey:20260618T180000
DTEND;TZID=Europe/Jersey:20260618T180000
DTSTAMP:20260309T125032Z
URL:https://www.publow-with-pensford-pc.gov.uk/events/chew-valley-area-for
 um/
SUMMARY:Chew Valley Area Forum
DESCRIPTION:Chew Valley Area Forum. Meetings are open to all and are held e
 ither in person or online.
ATTACH;FMTTYPE=image/jpeg:https://www.publow-with-pensford-pc.gov.uk/wp-co
 ntent/uploads/2023/11/BANES.png
LOCATION:Chew Valley School\, Chew Valley School Chew Lane Chew Magna\, Che
 w Valley School Chew Lane Chew Magna \, Bristol\, BS40 8QB\, United Kingdo
 m
GEO:51.3584903;-2.6227926000000252
X-APPLE-STRUCTURED-LOCATION;VALUE=URI;X-ADDRESS=Chew Valley School Chew Lan
 e Chew Magna\, Chew Valley School Chew Lane Chew Magna \, Bristol\, BS40 8
 QB\, United Kingdom;X-APPLE-RADIUS=100;X-TITLE=Chew Valley School:geo:51.3
 584903,-2.6227926000000252
END:VEVENT
BEGIN:VTIMEZONE
TZID:Europe/Jersey
X-LIC-LOCATION:Europe/Jersey
BEGIN:DAYLIGHT
DTSTART:20260329T020000
TZOFFSETFROM:+0000
TZOFFSETTO:+0100
TZNAME:BST
END:DAYLIGHT
END:VTIMEZONE
END:VCALENDAR