BEGIN:VCALENDAR
VERSION:2.0
PRODID:-//wp-events-plugin.com//7.2.3.1//EN
TZID:Europe/Jersey
X-WR-TIMEZONE:Europe/Jersey
BEGIN:VEVENT
UID:1-13373@publow-with-pensford-pc.gov.uk
DTSTART;TZID=Europe/Jersey;VALUE=DATE:20261121
DTEND;TZID=Europe/Jersey;VALUE=DATE:20261122
DTSTAMP:20260222T162730Z
URL:https://www.publow-with-pensford-pc.gov.uk/events/christmas-fair-3/
SUMMARY:Christmas Fair
DESCRIPTION:Christmas Fair at Pensford Memorial Hall - times to be confirme
 d - £1 per entry
ATTACH;FMTTYPE=image/jpeg:https://www.publow-with-pensford-pc.gov.uk/wp-co
 ntent/uploads/2018/10/Christmas-image-2.jpg
LOCATION:The Memorial Hall\, Publow Lane\, Publow Lane\, Pensford\, BS39 4H
 W\, United Kingdom
GEO:51.3727504;-2.5471238000000085
X-APPLE-STRUCTURED-LOCATION;VALUE=URI;X-ADDRESS=Publow Lane\, Publow Lane\,
  Pensford\, BS39 4HW\, United Kingdom;X-APPLE-RADIUS=100;X-TITLE=The Memor
 ial Hall:geo:51.3727504,-2.5471238000000085
END:VEVENT
BEGIN:VTIMEZONE
TZID:Europe/Jersey
X-LIC-LOCATION:Europe/Jersey
BEGIN:STANDARD
DTSTART:20261025T010000
TZOFFSETFROM:+0100
TZOFFSETTO:+0000
TZNAME:GMT
END:STANDARD
END:VTIMEZONE
END:VCALENDAR