BEGIN:VCALENDAR
VERSION:2.0
PRODID:-//wp-events-plugin.com//7.2.3.1//EN
TZID:Europe/Jersey
X-WR-TIMEZONE:Europe/Jersey
BEGIN:VEVENT
UID:1-13228@publow-with-pensford-pc.gov.uk
DTSTART;TZID=Europe/London:20261003T100000
DTEND;TZID=Europe/London:20261003T113000
DTSTAMP:20250419T222306Z
URL:https://www.publow-with-pensford-pc.gov.uk/events/coffee-morning-and-m
 arket-2026-10-03/
SUMMARY:All Saints’ Market
DESCRIPTION:All Saints’ Market in Publow\, Bristol
ATTACH;FMTTYPE=image/jpeg:https://www.publow-with-pensford-pc.gov.uk/wp-co
 ntent/uploads/2016/02/Publow-Bridge.png
LOCATION:All Saints Church\, Publow Lane\, Publow Lane\, Publow\, BS39 4HP\
 , United Kingdom
GEO:51.3768;-2.539975
X-APPLE-STRUCTURED-LOCATION;VALUE=URI;X-ADDRESS=Publow Lane\, Publow Lane\,
  Publow\, BS39 4HP\, United Kingdom;X-APPLE-RADIUS=100;X-TITLE=All Saints 
 Church:geo:51.3768,-2.539975
END:VEVENT
BEGIN:VTIMEZONE
TZID:Europe/London
X-LIC-LOCATION:Europe/London
BEGIN:DAYLIGHT
DTSTART:20260329T020000
TZOFFSETFROM:+0000
TZOFFSETTO:+0100
TZNAME:BST
END:DAYLIGHT
END:VTIMEZONE
END:VCALENDAR