BEGIN:VCALENDAR
VERSION:2.0
PRODID:-//wp-events-plugin.com//7.2.3.1//EN
TZID:Europe/Jersey
X-WR-TIMEZONE:Europe/Jersey
BEGIN:VEVENT
UID:1-13372@publow-with-pensford-pc.gov.uk
DTSTART;TZID=Europe/Jersey:20261023T183000
DTEND;TZID=Europe/Jersey:20261023T210000
DTSTAMP:20260222T162955Z
URL:https://www.publow-with-pensford-pc.gov.uk/events/halloween-family-nig
 ht/
SUMMARY:Halloween Family Night
DESCRIPTION:Halloween Family Night at Pensford Memorial Hall Entry £1 per 
 person 
ATTACH;FMTTYPE=image/jpeg:https://www.publow-with-pensford-pc.gov.uk/wp-co
 ntent/uploads/2026/02/hall.jpg
LOCATION:The Memorial Hall\, Publow Lane\, Publow Lane\, Pensford\, BS39 4H
 W\, United Kingdom
GEO:51.3727504;-2.5471238000000085
X-APPLE-STRUCTURED-LOCATION;VALUE=URI;X-ADDRESS=Publow Lane\, Publow Lane\,
  Pensford\, BS39 4HW\, United Kingdom;X-APPLE-RADIUS=100;X-TITLE=The Memor
 ial Hall:geo:51.3727504,-2.5471238000000085
END:VEVENT
BEGIN:VTIMEZONE
TZID:Europe/Jersey
X-LIC-LOCATION:Europe/Jersey
BEGIN:DAYLIGHT
DTSTART:20260329T020000
TZOFFSETFROM:+0000
TZOFFSETTO:+0100
TZNAME:BST
END:DAYLIGHT
END:VTIMEZONE
END:VCALENDAR