BEGIN:VCALENDAR
VERSION:2.0
PRODID:-//wp-events-plugin.com//7.2.3.1//EN
TZID:Europe/Jersey
X-WR-TIMEZONE:Europe/Jersey
BEGIN:VEVENT
UID:1-13261@publow-with-pensford-pc.gov.uk
DTSTART;TZID=Europe/London:20260713T190000
DTEND;TZID=Europe/London:20260713T190000
DTSTAMP:20250609T230734Z
URL:https://www.publow-with-pensford-pc.gov.uk/events/parish-council-publi
 c-meeting-2026-07-13/
SUMMARY:Parish Council - Public Meeting
DESCRIPTION:Parish Council meetings will normally take place on the 2nd Mon
 day of each month at Pensford Memorial Hall.
ATTACH;FMTTYPE=image/jpeg:https://www.publow-with-pensford-pc.gov.uk/wp-co
 ntent/uploads/2019/11/pc-meet.jpg
LOCATION:The Memorial Hall\, Publow Lane\, Publow Lane\, Pensford\, BS39 4H
 W\, United Kingdom
GEO:51.3727504;-2.5471238000000085
X-APPLE-STRUCTURED-LOCATION;VALUE=URI;X-ADDRESS=Publow Lane\, Publow Lane\,
  Pensford\, BS39 4HW\, United Kingdom;X-APPLE-RADIUS=100;X-TITLE=The Memor
 ial Hall:geo:51.3727504,-2.5471238000000085
END:VEVENT
BEGIN:VTIMEZONE
TZID:Europe/London
X-LIC-LOCATION:Europe/London
BEGIN:DAYLIGHT
DTSTART:20260329T020000
TZOFFSETFROM:+0000
TZOFFSETTO:+0100
TZNAME:BST
END:DAYLIGHT
END:VTIMEZONE
END:VCALENDAR