BEGIN:VCALENDAR
VERSION:2.0
PRODID:-//wp-events-plugin.com//7.2.3.1//EN
TZID:Europe/Jersey
X-WR-TIMEZONE:Europe/Jersey
BEGIN:VEVENT
UID:1-13365@publow-with-pensford-pc.gov.uk
DTSTART;TZID=Europe/London:20271125T190000
DTEND;TZID=Europe/London:20271125T210000
DTSTAMP:20260215T230438Z
URL:https://www.publow-with-pensford-pc.gov.uk/events/pensford-evergreens-
 2026-02-12-2026-02-19-2026-02-26-2026-03-05-2026-03-12-2026-03-19-2026-03-
 26-2026-04-02-2026-04-09-2026-04-16-2026-04-23-2026-04-30-2026-05-07-2026-
 05-14-2026-05-21-2-18-2027-11-25/
SUMMARY:Pensford Evergreen Club for the over 60's
DESCRIPTION:Pensford Evergreens for anyone over 60 in Pensford or surroundi
 ng area
ATTACH;FMTTYPE=image/jpeg:https://www.publow-with-pensford-pc.gov.uk/wp-co
 ntent/uploads/2014/08/evergreens.jpg
LOCATION:The Memorial Hall\, Publow Lane\, Publow Lane\, Pensford\, BS39 4H
 W\, United Kingdom
GEO:51.3727504;-2.5471238000000085
X-APPLE-STRUCTURED-LOCATION;VALUE=URI;X-ADDRESS=Publow Lane\, Publow Lane\,
  Pensford\, BS39 4HW\, United Kingdom;X-APPLE-RADIUS=100;X-TITLE=The Memor
 ial Hall:geo:51.3727504,-2.5471238000000085
END:VEVENT
BEGIN:VTIMEZONE
TZID:Europe/London
X-LIC-LOCATION:Europe/London
BEGIN:STANDARD
DTSTART:20271031T010000
TZOFFSETFROM:+0100
TZOFFSETTO:+0000
TZNAME:GMT
END:STANDARD
END:VTIMEZONE
END:VCALENDAR